BEGIN:VCALENDAR
VERSION:2.0
PRODID:-//Eventin//Event Calendar//EN
CALSCALE:GREGORIAN
METHOD:PUBLISH
BEGIN:VEVENT
UID:c6ac929e27f03730fce6ba092f19e0b1@winquestonline.com
SUMMARY:PSAT/SAT English – July 2026
DESCRIPTION:Description :: Attend our 2 sessions on SAT/PSAT English this 
 winter to gain insight on the Reading and Writing sections of the Exams.Stu
 dents Batch Size: 8-10Duration for each session: 1 hour
LOCATION:Online
DTSTAMP:20260420T050637Z
DTSTART:20260729T120000Z
DTEND:20260830T210000Z
END:VEVENT
END:VCALENDAR
