BEGIN:VCALENDAR
VERSION:2.0
PRODID:-//Eventin//Event Calendar//EN
CALSCALE:GREGORIAN
METHOD:PUBLISH
BEGIN:VEVENT
UID:6c29a0b5f063458cdcb4922d0cedc391@winquestonline.com
SUMMARY:Chess Camp for Beginners – July 2026
DESCRIPTION:Description :: According to studies done at the University of 
 Memphis\, playing chess significantly improves children's visual memory\, a
 ttention span\, and spatial-reasoning ability. Need some encouragement for 
 your Kid? Please register for a 2-day free live event through our zoom onli
 ne interractive sessions. Please select the appropriate group to register.\
 nStudents Batch Size: 10-15Duration for each session: 1 hourDates: To be 
 communicated and organized based on the number of Registrations received.
LOCATION:Online
DTSTAMP:20260420T050638Z
DTSTART:20260729T120000Z
DTEND:20260830T210000Z
END:VEVENT
END:VCALENDAR
